BEGIN:VCALENDAR
VERSION:2.0
PRODID:-//NC 100 - ECPv6.15.18//NONSGML v1.0//EN
CALSCALE:GREGORIAN
METHOD:PUBLISH
X-WR-CALNAME:NC 100
X-ORIGINAL-URL:https://nc-100.org
X-WR-CALDESC:Events for NC 100
REFRESH-INTERVAL;VALUE=DURATION:PT1H
X-Robots-Tag:noindex
X-PUBLISHED-TTL:PT1H
BEGIN:VTIMEZONE
TZID:America/New_York
BEGIN:DAYLIGHT
TZOFFSETFROM:-0500
TZOFFSETTO:-0400
TZNAME:EDT
DTSTART:20240310T070000
END:DAYLIGHT
BEGIN:STANDARD
TZOFFSETFROM:-0400
TZOFFSETTO:-0500
TZNAME:EST
DTSTART:20241103T060000
END:STANDARD
BEGIN:DAYLIGHT
TZOFFSETFROM:-0500
TZOFFSETTO:-0400
TZNAME:EDT
DTSTART:20250309T070000
END:DAYLIGHT
BEGIN:STANDARD
TZOFFSETFROM:-0400
TZOFFSETTO:-0500
TZNAME:EST
DTSTART:20251102T060000
END:STANDARD
BEGIN:DAYLIGHT
TZOFFSETFROM:-0500
TZOFFSETTO:-0400
TZNAME:EDT
DTSTART:20260308T070000
END:DAYLIGHT
BEGIN:STANDARD
TZOFFSETFROM:-0400
TZOFFSETTO:-0500
TZNAME:EST
DTSTART:20261101T060000
END:STANDARD
BEGIN:DAYLIGHT
TZOFFSETFROM:-0500
TZOFFSETTO:-0400
TZNAME:EDT
DTSTART:20270314T070000
END:DAYLIGHT
BEGIN:STANDARD
TZOFFSETFROM:-0400
TZOFFSETTO:-0500
TZNAME:EST
DTSTART:20271107T060000
END:STANDARD
END:VTIMEZONE
BEGIN:VEVENT
DTSTART;TZID=America/New_York:20251213T090000
DTEND;TZID=America/New_York:20251213T120000
DTSTAMP:20260419T191940
CREATED:20251126T002212Z
LAST-MODIFIED:20251126T002212Z
UID:10000087-1765616400-1765627200@nc-100.org
SUMMARY:Introduction to American Mah Jongg
DESCRIPTION:Eden Library is hosting a beginner-friendly workshop where participants can learn the basics of American Mah Jongg or refresh their existing skills. \n📅 Saturday\, December 13\, 2025\n🕙 9:00 AM – 12:00 PM\n📍 598 S. Pierce St.\, Eden\, NC 27288 \nA great opportunity to explore this classic game of strategy\, puzzles\, and fun in a relaxed library setting. \nMore info: resmith@rockinghamcountync.gov | 336-623-3168
URL:https://nc-100.org/event/introduction-to-american-mah-jongg/
ATTACH;FMTTYPE=:
END:VEVENT
BEGIN:VEVENT
DTSTART;TZID=America/New_York:20251213T090000
DTEND;TZID=America/New_York:20251213T130000
DTSTAMP:20260419T191940
CREATED:20251202T014545Z
LAST-MODIFIED:20251202T014545Z
UID:10000096-1765616400-1765630800@nc-100.org
SUMMARY:The Vintage Christmas Market
DESCRIPTION:The Farm Stand Mercantile & Grocery is hosting a festive outdoor market featuring local makers\, small businesses\, and handcrafted holiday goods. \n📅 Saturdays — December 6\, 13\, & 20\, 2025\n🕙 9:00 AM – 1:00 PM\n📍 893 Narrow Gauge Rd.\, Reidsville\, NC 27320 \nBrowse vintage finds\, holiday décor\, handmade gifts\, and treats from local vendors. A great way to shop small and support local creators this Christmas season. \nMore info: The Farm Stand Mercantile & Grocery
URL:https://nc-100.org/event/the-vintage-christmas-market/2025-12-13/
ATTACH;FMTTYPE=:
END:VEVENT
BEGIN:VEVENT
DTSTART;TZID=America/New_York:20251213T090000
DTEND;TZID=America/New_York:20251213T140000
DTSTAMP:20260419T191940
CREATED:20251202T014321Z
LAST-MODIFIED:20251202T014321Z
UID:10000094-1765616400-1765634400@nc-100.org
SUMMARY:The Holiday Shoppes at Graystone Farm
DESCRIPTION:The Barn at Graystone Farm is hosting its annual Holiday Shoppes\, featuring more than 20 local makers\, growers\, crafters\, and small businesses — plus food trucks and festive finds. \n📅 Saturday\, December 13\, 2025\n🕙 9:00 AM – 2:00 PM\n📍 920 Mt. Carmel Church Rd.\, Reidsville\, NC 27320 \nShop unique gifts\, handmade goods\, seasonal treats\, and local crafts — with free entry for all. A great way to support local artisans this holiday season. \nMore info: Graystone Farm (Facebook Event)
URL:https://nc-100.org/event/the-holiday-shoppes-at-graystone-farm/
LOCATION:Team Member Popup
ATTACH;FMTTYPE=:
END:VEVENT
BEGIN:VEVENT
DTSTART;TZID=America/New_York:20251213T130000
DTEND;TZID=America/New_York:20251213T130000
DTSTAMP:20260419T191940
CREATED:20251105T030951Z
LAST-MODIFIED:20251105T030951Z
UID:10000044-1765630800-1765630800@nc-100.org
SUMMARY:Madison–Mayodan Christmas Parade
DESCRIPTION:Join the holiday fun at the 46th Annual Madison–Mayodan Christmas Parade\, hosted by the Mayodan Fire Department! 🚒✨ It’s one of the longest and most festive Christmas parades in North Carolina. \n📅 Saturday\, December 13\, 2025 \n🕐 1 PM \n📍 Elliott Duncan Park\, Mayodan\, NC \nExpect floats\, music\, and plenty of holiday cheer — even WXII News 12 will be there covering the event! 🎅🎶 Don’t miss this joyful community tradition.
URL:https://nc-100.org/event/madison-mayodan-christmas-parade/
ATTACH;FMTTYPE=:
END:VEVENT
BEGIN:VEVENT
DTSTART;TZID=America/New_York:20251213T170000
DTEND;TZID=America/New_York:20251213T170000
DTSTAMP:20260419T191940
CREATED:20251007T001233Z
LAST-MODIFIED:20251007T001233Z
UID:10000020-1765645200-1765645200@nc-100.org
SUMMARY:Holiday Social 2025 Registration
DESCRIPTION:RELC Members please follow the link below to register for our Holiday Social taking place at Reidsville Area Foundation on Saturday December 13th at 5pm. \nHoliday Social 2025 Registration Link
URL:https://nc-100.org/event/holiday-social-2025-registration/
ATTACH;FMTTYPE=:
END:VEVENT
BEGIN:VEVENT
DTSTART;TZID=America/New_York:20251213T180000
DTEND;TZID=America/New_York:20251213T180000
DTSTAMP:20260419T191940
CREATED:20251105T030258Z
LAST-MODIFIED:20251105T030258Z
UID:10000041-1765648800-1765648800@nc-100.org
SUMMARY:Olde Leaksville Nighttime Christmas Parade
DESCRIPTION:Bring the whole family out for an evening of holiday lights\, music\, and cheer at the annual Olde Leaksville Nighttime Christmas Parade in downtown Eden! \n📅 Saturday\, December 13\, 2025 \n🕕 6 PM \n📍 Olde Leaksville District\, Washington St.\, Eden\, NC \nEnjoy festive floats\, community spirit\, and holiday magic as the streets of Olde Leaksville light up the night. \nLEARN MORE
URL:https://nc-100.org/event/olde-leaksville-nighttime-christmas-parade/
ATTACH;FMTTYPE=:
END:VEVENT
BEGIN:VEVENT
DTSTART;TZID=America/New_York:20251214T130000
DTEND;TZID=America/New_York:20251214T170000
DTSTAMP:20260419T191940
CREATED:20251105T030549Z
LAST-MODIFIED:20251105T030549Z
UID:10000042-1765717200-1765731600@nc-100.org
SUMMARY:Santa’s Workshop at the Eden Venture Business Park
DESCRIPTION:Get into the holiday spirit with an afternoon full of festive fun\, shopping\, and family activities — all inside the Old Mall in Eden! \n📅 Saturday\, December 14 \n🕓 1PM-5PM \n📍 Eden Venture Business Park\, 201 E Meadow Rd\, Eden\, NC 27288 \n🎅 Meet Santa and take photos\, ✨ shop local vendors and small businesses\, and enjoy a cheerful community celebration for all ages! \nHosted by Eden River Rooms & Sandra Meadows. \nLEARN MORE
URL:https://nc-100.org/event/santas-workshop-at-the-eden-venture-business-park/
END:VEVENT
BEGIN:VEVENT
DTSTART;TZID=America/New_York:20251215T170000
DTEND;TZID=America/New_York:20251215T170000
DTSTAMP:20260419T191940
CREATED:20251126T002336Z
LAST-MODIFIED:20251126T002336Z
UID:10000088-1765818000-1765818000@nc-100.org
SUMMARY:Monday Musical: Anastasia
DESCRIPTION:Reidsville Library is hosting a special Monday Musical movie night featuring the animated classic Anastasia (Rated G). \n📅 Monday\, December 15\, 2025\n🕙 5:00 PM\n📍 204 W. Morehead St.\, Reidsville\, NC 27320 \nA cozy family-friendly evening with a beloved musical adventure on the big screen. \nMore info: 336-349-8476
URL:https://nc-100.org/event/monday-musical-anastasia/
ATTACH;FMTTYPE=:
END:VEVENT
BEGIN:VEVENT
DTSTART;TZID=America/New_York:20251215T180000
DTEND;TZID=America/New_York:20251215T190000
DTSTAMP:20260419T191940
CREATED:20251126T002604Z
LAST-MODIFIED:20251126T002604Z
UID:10000089-1765821600-1765825200@nc-100.org
SUMMARY:Holiday Trivia Night
DESCRIPTION:Eden Library is hosting a festive Holiday Trivia Night where participants can play solo or join a team to test their seasonal knowledge and win fun prizes. \n📅 Monday\, December 15\, 2025\n🕙 6:00 PM – 7:00 PM\n📍 598 S. Pierce St.\, Eden\, NC 27288 \nBring your best trivia skills or just come for the laughs — teams of up to six are welcome! \nMore info: hrsmith@rockinghamcountync.gov | 336-623-3168
URL:https://nc-100.org/event/holiday-trivia-night/
ATTACH;FMTTYPE=:
END:VEVENT
BEGIN:VEVENT
DTSTART;TZID=America/New_York:20251216T160000
DTEND;TZID=America/New_York:20251216T160000
DTSTAMP:20260419T191940
CREATED:20251126T002738Z
LAST-MODIFIED:20251126T002738Z
UID:10000090-1765900800-1765900800@nc-100.org
SUMMARY:Teen & Adult Craft: Simmer Pot Kits
DESCRIPTION:Eden Library is hosting a cozy hands-on craft session where teens and adults can make their own scented simmer pot kits (potpourri-style blends perfect for the holidays). \n📅 Tuesday\, December 16\, 2025\n🕙 4:00 PM\n📍 598 S. Pierce St.\, Eden\, NC 27288 \nAll supplies are provided\, but sign-up is required to reserve your spot. \nMore info: hrsmith@rockinghamcountync.gov | 336-623-3168
URL:https://nc-100.org/event/teen-adult-craft-simmer-pot-kits/
ATTACH;FMTTYPE=:
END:VEVENT
BEGIN:VEVENT
DTSTART;TZID=America/New_York:20251217T160000
DTEND;TZID=America/New_York:20251217T160000
DTSTAMP:20260419T191940
CREATED:20251126T002930Z
LAST-MODIFIED:20251126T002930Z
UID:10000091-1765987200-1765987200@nc-100.org
SUMMARY:Youth Craft: Holiday Ornaments (Ages 4–17)
DESCRIPTION:Reidsville Library is hosting a festive youth craft session where kids and teens can create their own holiday ornaments using fun materials. \n📅 Wednesday\, December 17\, 2025\n🕙 4:00 PM\n📍 204 W. Morehead St.\, Reidsville\, NC 27320 \nA perfect after-school activity for young crafters to get creative and celebrate the season. \nMore info: 336-349-8476
URL:https://nc-100.org/event/youth-craft-holiday-ornaments-ages-4-17/
ATTACH;FMTTYPE=:
END:VEVENT
BEGIN:VEVENT
DTSTART;TZID=America/New_York:20251217T173000
DTEND;TZID=America/New_York:20251217T193000
DTSTAMP:20260419T191940
CREATED:20251215T084258Z
LAST-MODIFIED:20251215T084258Z
UID:10000104-1765992600-1765999800@nc-100.org
SUMMARY:Cookies\, Cocoa & Claus
DESCRIPTION:Trinity Wesleyan Eden NC is hosting a cozy\, family-friendly Christmas event with crafts\, treats\, and a special visit from Santa. \n📅 Wednesday\, December 17\, 2025\n🕙 5:30 PM – 7:30 PM (floating)\n📍 186 E. Aiken Rd.\, Eden\, NC 27288 \nEnjoy Christmas crafts for kids\, delicious cookies\, warm cocoa\, and photos with Santa in a relaxed\, festive atmosphere. \nMore info: Trinity Wesleyan Eden NC
URL:https://nc-100.org/event/cookies-cocoa-claus/
CATEGORIES:Feature Events
ATTACH;FMTTYPE=:
END:VEVENT
BEGIN:VEVENT
DTSTART;TZID=America/New_York:20251218T160000
DTEND;TZID=America/New_York:20251218T160000
DTSTAMP:20260419T191940
CREATED:20251126T003301Z
LAST-MODIFIED:20251126T003301Z
UID:10000092-1766073600-1766073600@nc-100.org
SUMMARY:Adult Craft: Cookie Cutter Ornaments (18+)
DESCRIPTION:Reidsville Library is hosting a creative holiday craft session just for adults\, featuring DIY cookie cutter ornaments. \n📅 Thursday\, December 18\, 2025\n🕙 4:00 PM\n📍 204 W. Morehead St.\, Reidsville\, NC 27320 \nSign up at the front desk to reserve a spot. Walk-ins are welcome while supplies last. \nMore info: 336-349-8476
URL:https://nc-100.org/event/adult-craft-cookie-cutter-ornaments-18/
ATTACH;FMTTYPE=:
END:VEVENT
BEGIN:VEVENT
DTSTART;TZID=America/New_York:20251218T180000
DTEND;TZID=America/New_York:20251218T190000
DTSTAMP:20260419T191940
CREATED:20251117T083953Z
LAST-MODIFIED:20251117T083953Z
UID:10000077-1766080800-1766084400@nc-100.org
SUMMARY:English Conversation Club (Adult ESL Class)
DESCRIPTION:Eden Public Library hosts a weekly English Conversation Club for adults looking to practice their English skills in a friendly\, supportive environment. \n📅 Thursdays (ongoing)\n🕙 6 PM – 7 PM\n📍 598 S. Pierce St.\, Eden\, NC 27288 \nThis welcoming class helps adults build confidence\, improve conversation skills\, and connect with others in the community. \nMore info: rcpl.org | 336-623-3168
URL:https://nc-100.org/event/english-conversation-club-adult-esl-class/2025-12-18/
ATTACH;FMTTYPE=:
END:VEVENT
BEGIN:VEVENT
DTSTART;TZID=America/New_York:20251220T090000
DTEND;TZID=America/New_York:20251220T130000
DTSTAMP:20260419T191940
CREATED:20251202T014545Z
LAST-MODIFIED:20251202T014545Z
UID:10000097-1766221200-1766235600@nc-100.org
SUMMARY:The Vintage Christmas Market
DESCRIPTION:The Farm Stand Mercantile & Grocery is hosting a festive outdoor market featuring local makers\, small businesses\, and handcrafted holiday goods. \n📅 Saturdays — December 6\, 13\, & 20\, 2025\n🕙 9:00 AM – 1:00 PM\n📍 893 Narrow Gauge Rd.\, Reidsville\, NC 27320 \nBrowse vintage finds\, holiday décor\, handmade gifts\, and treats from local vendors. A great way to shop small and support local creators this Christmas season. \nMore info: The Farm Stand Mercantile & Grocery
URL:https://nc-100.org/event/the-vintage-christmas-market/2025-12-20/
ATTACH;FMTTYPE=:
END:VEVENT
BEGIN:VEVENT
DTSTART;TZID=America/New_York:20251220T130000
DTEND;TZID=America/New_York:20251220T150000
DTSTAMP:20260419T191940
CREATED:20251105T031623Z
LAST-MODIFIED:20251105T031623Z
UID:10000045-1766235600-1766242800@nc-100.org
SUMMARY:Reidsville Reapers vs. Fayetteville Cherubim
DESCRIPTION:The Reapers are back at it\, defending home court against Fayetteville! \n📅 Saturday\, December 20\, 2025 \n🕐 1 PM – 3 PM \n📍 Reidsville Recreational Center\, 201 N. Washington Ave\, Reidsville\, NC 27320 \n🎟️ $12 per person. Don’t miss this pre-holiday matchup packed with excitement! \nLEARN MORE
URL:https://nc-100.org/event/reidsville-reapers-vs-fayetteville-cherubim/
ATTACH;FMTTYPE=:
END:VEVENT
BEGIN:VEVENT
DTSTART;TZID=America/New_York:20251227T130000
DTEND;TZID=America/New_York:20251227T150000
DTSTAMP:20260419T191940
CREATED:20251105T032026Z
LAST-MODIFIED:20251105T032026Z
UID:10000046-1766840400-1766847600@nc-100.org
SUMMARY:Reidsville Reapers vs. Elite Ballers
DESCRIPTION:Close out the year with another action-filled Reapers home game! \n📅 Saturday\, December 27\, 2025 \n🕐 1 PM – 3 PM \n📍 Reidsville Recreational Center\, 201 N. Washington Ave\, Reidsville\, NC 27320 \n🎟️ $12 per ticket. Perfect post-Christmas outing for the whole family.
URL:https://nc-100.org/event/reidsville-reapers-vs-elite-ballers-2/
ATTACH;FMTTYPE=:
END:VEVENT
BEGIN:VEVENT
DTSTART;TZID=America/New_York:20251229T150000
DTEND;TZID=America/New_York:20251229T150000
DTSTAMP:20260419T191940
CREATED:20251126T001804Z
LAST-MODIFIED:20251126T001804Z
UID:10000084-1767020400-1767020400@nc-100.org
SUMMARY:Crafting Social
DESCRIPTION:Reidsville Library is hosting a relaxed crafting meetup where community members can bring their projects\, share ideas\, and enjoy creating together. \n📅 Monday\, December 29\, 2025\n🕙 3:00 PM\n📍 204 W. Morehead St.\, Reidsville\, NC 27320 \nA welcoming space for knitters\, crafters\, and makers of all kinds. This group will also meet again on December 29th at the same time. \nMore info: 336-349-8476
URL:https://nc-100.org/event/crafting-social-2/
END:VEVENT
BEGIN:VEVENT
DTSTART;TZID=America/New_York:20260107T090000
DTEND;TZID=America/New_York:20260107T180000
DTSTAMP:20260419T191940
CREATED:20260106T030644Z
LAST-MODIFIED:20260106T030644Z
UID:10000106-1767776400-1767808800@nc-100.org
SUMMARY:Puzzle Swap
DESCRIPTION:Bring a puzzle\, take a puzzle! Reidsville Library is hosting a fun\, low-key swap where puzzle lovers can share and discover new favorites. \n📅 Wednesday\, January 7\, 2026\n🕙 9:00 AM – 6:00 PM\n📍 Reidsville Library\n204 W. Morehead Street\, Reidsville\, NC 27320 \nStop by anytime during the day to trade puzzles and enjoy a simple\, community-friendly activity that’s great for all ages. \nMore info: 336-349-8476
URL:https://nc-100.org/event/puzzle-swap/
ATTACH;FMTTYPE=:
END:VEVENT
BEGIN:VEVENT
DTSTART;TZID=America/New_York:20260108T160000
DTEND;TZID=America/New_York:20260108T160000
DTSTAMP:20260419T191940
CREATED:20251113T035451Z
LAST-MODIFIED:20251113T035451Z
UID:10000049-1767888000-1767888000@nc-100.org
SUMMARY:After-School Storytime at Eden Library
DESCRIPTION:Join the library for monthly After-School Storytime as we read this year’s NCCBA nominees and make a fun craft together. \nEnjoy great stories\, crafts\, and after-school fun with friends at your local branch. All ages are welcome! \n📅 Monthly\, September 2025–May 2026\n🕙 4 PM \n📍 Eden – 2nd Thursdays\nNov 13\, Dec 11\, Jan 8\, Feb 12\, Mar 12\, Apr 2*\, May 14 \nFor more information contact: Rachel\, rholden@rockinghamcountync.gov
URL:https://nc-100.org/event/after-school-storytime-at-eden-library/2026-01-08/
ATTACH;FMTTYPE=:
END:VEVENT
BEGIN:VEVENT
DTSTART;TZID=America/New_York:20260108T180000
DTEND;TZID=America/New_York:20260108T194500
DTSTAMP:20260419T191940
CREATED:20260106T030849Z
LAST-MODIFIED:20260106T030849Z
UID:10000107-1767895200-1767901500@nc-100.org
SUMMARY:Reidsville Library Chess Club
DESCRIPTION:Join fellow chess lovers for casual games\, learning\, and friendly competition at this weekly Chess Club hosted by Reidsville Library. \n📅 Thursday\, January 8\, 2026\n🕙 6:00 PM – 7:45 PM\n📍 Reidsville Library\n204 W. Morehead Street\, Reidsville\, NC 27320 \nBring a board if you’re able and enjoy an evening of casual games\, lessons\, and puzzles while connecting with local chess players. \nMore info: 336-349-8476
URL:https://nc-100.org/event/reidsville-library-chess-club/
ATTACH;FMTTYPE=:
END:VEVENT
BEGIN:VEVENT
DTSTART;TZID=America/New_York:20260109T153000
DTEND;TZID=America/New_York:20260109T170000
DTSTAMP:20260419T191940
CREATED:20260106T031214Z
LAST-MODIFIED:20260106T031214Z
UID:10000108-1767972600-1767978000@nc-100.org
SUMMARY:Eden Library Coding Club
DESCRIPTION:Curious about coding? Eden Library is hosting a hands-on Coding Club where participants can learn the basics and explore technology in a welcoming\, beginner-friendly space. \n📅 Friday\, January 9\, 2026\n🕙 3:30 PM – 5:00 PM\n📍 Eden Library\n598 S. Pierce Street\, Eden\, NC 27288 \nLearn the fundamentals of coding using the free web resource Fiero Code\, share ideas\, and collaborate with others. A laptop is recommended\, and sign-up is required to participate. \nMore info: 336-623-3168 | resmith@rockinghamcountync.gov
URL:https://nc-100.org/event/eden-library-coding-club/
ATTACH;FMTTYPE=:
END:VEVENT
BEGIN:VEVENT
DTSTART;TZID=America/New_York:20260109T160000
DTEND;TZID=America/New_York:20260109T170000
DTSTAMP:20260419T191940
CREATED:20260106T031616Z
LAST-MODIFIED:20260106T031616Z
UID:10000109-1767974400-1767978000@nc-100.org
SUMMARY:Family STEAM Day: Skiing Snowmen!
DESCRIPTION:Bring the whole family to Reidsville Library for a fun\, hands-on STEAM activity that blends creativity\, learning\, and winter-themed fun. \n📅 Friday\, January 9\, 2026\n🕙 4:00 PM – 5:00 PM\n📍 Reidsville Library\n204 W. Morehead Street\, Reidsville\, NC 27320 \nKids and families can explore science and creativity together through an interactive activity designed to spark curiosity and imagination. \nMore info: 336-349-8476
URL:https://nc-100.org/event/family-steam-day-skiing-snowmen/
ATTACH;FMTTYPE=:
END:VEVENT
BEGIN:VEVENT
DTSTART;TZID=America/New_York:20260109T160000
DTEND;TZID=America/New_York:20260109T180000
DTSTAMP:20260419T191940
CREATED:20260106T031736Z
LAST-MODIFIED:20260106T031736Z
UID:10000110-1767974400-1767981600@nc-100.org
SUMMARY:Classic Animation Fun: Friday Movie Matinee
DESCRIPTION:Enjoy a cozy afternoon at Madison-Mayodan Library with a classic animated movie matinee featuring Sleeping Beauty\, perfect for families and kids of all ages. \n📅 Friday\, January 9\, 2026\n🕙 4:00 PM – 6:00 PM\n📍 Madison-Mayodan Public Library\n611 Burton Street\, Madison\, NC 27025 \nSit back and enjoy a G-rated classic in the McMichael Community Room\, with snacks provided while supplies last. \nMore info: 336-548-6553
URL:https://nc-100.org/event/classic-animation-fun-friday-movie-matinee/
ATTACH;FMTTYPE=:
END:VEVENT
BEGIN:VEVENT
DTSTART;TZID=America/New_York:20260110T090000
DTEND;TZID=America/New_York:20260110T120000
DTSTAMP:20260419T191940
CREATED:20260106T065544Z
LAST-MODIFIED:20260106T065544Z
UID:10000111-1768035600-1768046400@nc-100.org
SUMMARY:Introduction to American Mah Jongg
DESCRIPTION:Curious about Mah Jongg or looking to refresh your skills? Eden Library is hosting a beginner-friendly session to learn the basics in a relaxed\, welcoming setting. \n📅 Saturday\, January 10\, 2026 \n🕙 9:00 AM – 12:00 PM \n📍 Eden Library\n598 S. Pierce Street\, Eden\, NC 27288 \nThis introductory class is perfect for new players or those wanting a refresher—come learn\, practice\, and enjoy time with fellow community members. \nMore info: 336-623-3168 | resmith@rockinghamcountync.gov
URL:https://nc-100.org/event/introduction-to-american-mah-jongg-2/
ATTACH;FMTTYPE=:
END:VEVENT
BEGIN:VEVENT
DTSTART;TZID=America/New_York:20260112T113000
DTEND;TZID=America/New_York:20260112T133000
DTSTAMP:20260419T191940
CREATED:20260109T003243Z
LAST-MODIFIED:20260109T003243Z
UID:10000115-1768217400-1768224600@nc-100.org
SUMMARY:Rockingham County Community Conversations
DESCRIPTION:Join neighbors and community leaders for an open conversation about the strengths\, challenges\, and future of Rockingham County—your voice matters. \n📅 Monday\, January 12\, 2026\n🕙 11:30 AM – 1:30 PM\n📍 Madison–Mayodan Recreation Department\n300 S. 2nd Ave.\, Mayodan\, NC 27027 \nEnjoy food and drinks while sharing your thoughts in this facilitated discussion. Participants will receive a $25 gift card as a thank-you for their time. \nMore info & sign up: tinyurl.com/yzksmyf8
URL:https://nc-100.org/event/rockingham-county-community-conversations/
ATTACH;FMTTYPE=:
END:VEVENT
BEGIN:VEVENT
DTSTART;TZID=America/New_York:20260112T190000
DTEND;TZID=America/New_York:20260112T210000
DTSTAMP:20260419T191940
CREATED:20260106T030342Z
LAST-MODIFIED:20260106T030342Z
UID:10000105-1768244400-1768251600@nc-100.org
SUMMARY:Join the Community Conversation with Rockingham County!
DESCRIPTION:Join the Community Conversation with Rockingham County! Food and gift cards provided by the Reidsville Area Foundation. Limited to 15 participants—register early to be part of the discussion! \n Monday\, January 12\n 7:00–9:00 PM\n Eden Boys & Girls Club\n1026 Harris St.\, Eden\, NC 27288 \n Enjoy food and drinks\n Receive a $25 gift card\n Open to the community! \n Space is limited\, so please register in advance:\n tinyurl.com/3wmj2wed
URL:https://nc-100.org/event/join-the-community-conversation-with-rockingham-county/
ATTACH;FMTTYPE=:
END:VEVENT
BEGIN:VEVENT
DTSTART;TZID=America/New_York:20260113T160000
DTEND;TZID=America/New_York:20260113T160000
DTSTAMP:20260419T191940
CREATED:20251113T040856Z
LAST-MODIFIED:20251113T040856Z
UID:10000059-1768320000-1768320000@nc-100.org
SUMMARY:After-School Storytime at Reidsville Library
DESCRIPTION:Join the library for monthly After-School Storytime as we read this year’s NCCBA nominees and make a fun craft together. \nEnjoy great stories\, crafts\, and after-school fun with friends at your local branch. All ages are welcome! \n📅 Monthly\, September 2025–May 2026\n🕙 4 PM \n📍 204 W Morehead St\, Reidsville\, NC 27320– \n2nd Tuesday\nNov 4*\, Dec 9\, Jan 13\, Feb 10\, Mar 10\, Apr 14\, May 12 \nFor more information contact: Rachel\, rholden@rockinghamcountync.gov
URL:https://nc-100.org/event/after-school-storytime-at-reidsville-library/2026-01-13/
ATTACH;FMTTYPE=:
END:VEVENT
BEGIN:VEVENT
DTSTART;TZID=America/New_York:20260114T140000
DTEND;TZID=America/New_York:20260114T140000
DTSTAMP:20260419T191940
CREATED:20260106T070111Z
LAST-MODIFIED:20260106T070111Z
UID:10000114-1768399200-1768399200@nc-100.org
SUMMARY:Stew Sale @ Public Works
DESCRIPTION:Warm up with a delicious stew sale hosted by the City of Eden Public Works\, with all proceeds benefiting local families in need. \n📅 Wednesday\, January 14\, 2026\n🕙 Pickup by 2:00 PM\n📍 City of Eden Public Works \nStew is $8 per quart (cash or check). Orders must be placed in advance and picked up by 2 PM due to limited space—every purchase helps support neighbors in our community. \nMore info: 336-612-8043 | alusk@edennc.us
URL:https://nc-100.org/event/stew-sale-public-works/
ATTACH;FMTTYPE=:
END:VEVENT
BEGIN:VEVENT
DTSTART;TZID=America/New_York:20260114T160000
DTEND;TZID=America/New_York:20260114T160000
DTSTAMP:20260419T191940
CREATED:20251113T041428Z
LAST-MODIFIED:20251113T041428Z
UID:10000068-1768406400-1768406400@nc-100.org
SUMMARY:After-School Storytime at Madison-Mayodan Library
DESCRIPTION:Join the library for monthly After-School Storytime as we read this year’s NCCBA nominees and make a fun craft together. \nEnjoy great stories\, crafts\, and after-school fun with friends at your local branch. All ages are welcome! \n📅 Monthly\, September 2025–May 2026\n🕙 4 PM \n📍 611 Burton St\, Madison\, NC 27025 \n2nd Wednesdays\nDec 10\, Jan 14\, Feb 11\, Mar 11\, Apr 1*\, May 14 \nFor more information contact: Rachel\, rholden@rockinghamcountync.gov
URL:https://nc-100.org/event/after-school-storytime-at-madison-mayodan-library/2026-01-14/
END:VEVENT
END:VCALENDAR