BEGIN:VCALENDAR
VERSION:2.0
PRODID:-//NC 100 - ECPv6.15.18//NONSGML v1.0//EN
CALSCALE:GREGORIAN
METHOD:PUBLISH
X-ORIGINAL-URL:https://nc-100.org
X-WR-CALDESC:Events for NC 100
REFRESH-INTERVAL;VALUE=DURATION:PT1H
X-Robots-Tag:noindex
X-PUBLISHED-TTL:PT1H
BEGIN:VTIMEZONE
TZID:America/New_York
BEGIN:DAYLIGHT
TZOFFSETFROM:-0500
TZOFFSETTO:-0400
TZNAME:EDT
DTSTART:20240310T070000
END:DAYLIGHT
BEGIN:STANDARD
TZOFFSETFROM:-0400
TZOFFSETTO:-0500
TZNAME:EST
DTSTART:20241103T060000
END:STANDARD
BEGIN:DAYLIGHT
TZOFFSETFROM:-0500
TZOFFSETTO:-0400
TZNAME:EDT
DTSTART:20250309T070000
END:DAYLIGHT
BEGIN:STANDARD
TZOFFSETFROM:-0400
TZOFFSETTO:-0500
TZNAME:EST
DTSTART:20251102T060000
END:STANDARD
BEGIN:DAYLIGHT
TZOFFSETFROM:-0500
TZOFFSETTO:-0400
TZNAME:EDT
DTSTART:20260308T070000
END:DAYLIGHT
BEGIN:STANDARD
TZOFFSETFROM:-0400
TZOFFSETTO:-0500
TZNAME:EST
DTSTART:20261101T060000
END:STANDARD
END:VTIMEZONE
BEGIN:VEVENT
DTSTART;TZID=America/New_York:20250319T180000
DTEND;TZID=America/New_York:20250319T200000
DTSTAMP:20260420T093254
CREATED:20250318T013703Z
LAST-MODIFIED:20250318T013703Z
UID:10000012-1742407200-1742414400@nc-100.org
SUMMARY:Public Schools 101
DESCRIPTION:
URL:https://nc-100.org/event/public-schools-101/
CATEGORIES:Feature Events
ATTACH;FMTTYPE=:
END:VEVENT
BEGIN:VEVENT
DTSTART;TZID=America/New_York:20250322T100000
DTEND;TZID=America/New_York:20250322T140000
DTSTAMP:20260420T093254
CREATED:20250318T014013Z
LAST-MODIFIED:20250318T014013Z
UID:10000013-1742637600-1742652000@nc-100.org
SUMMARY:Community Care Hub Event
DESCRIPTION:
URL:https://nc-100.org/event/community-care-hub-event/
CATEGORIES:Feature Events
ATTACH;FMTTYPE=:
END:VEVENT
END:VCALENDAR